BEGIN:VCALENDAR
VERSION:2.0
PRODID:-//MoreDirt v1.0//EN
BEGIN:VEVENT
DTSTAMP:20150730T130000Z
ORGANIZER;CN=Northlander Events:MAILTO:
STATUS:CONFIRMED
UID:MORESPORTSNETWORK4726
DTSTART:20210827T080000Z
DTEND:20210829T120000Z
SUMMARY:Coolest 8 & 24 Hour Race Against Cancer
DESCRIPTION:Coolest 8 & 24 Hour Race Against Cancer - more details: https://www.moredirt.com/event/4726
X-ALT-DESC;FMTTYPE=text/html:Coolest 8 & 24 Hour Race Against Cancer - more details: https://www.moredirt.com/event/4726
LOCATION:
END:VEVENT
END:VCALENDAR