BEGIN:VCALENDAR
VERSION:2.0
PRODID:-//MoreDirt v1.0//EN
BEGIN:VEVENT
DTSTAMP:20150730T130000Z
ORGANIZER;CN=Honey Stinger:MAILTO:
STATUS:CONFIRMED
UID:MORESPORTSNETWORK4719
DTSTART:20210807T080000Z
DTEND:20210808T120000Z
SUMMARY:Honey Stinger Emerald Mountain Epic 2021
DESCRIPTION:Honey Stinger Emerald Mountain Epic 2021 - more details: https://www.moredirt.com/event/4719
X-ALT-DESC;FMTTYPE=text/html:Honey Stinger Emerald Mountain Epic 2021 - more details: https://www.moredirt.com/event/4719
LOCATION:
END:VEVENT
END:VCALENDAR