BEGIN:VCALENDAR
VERSION:2.0
PRODID:-//MoreDirt v1.0//EN
BEGIN:VEVENT
DTSTAMP:20150730T130000Z
ORGANIZER;CN=Intermountain Cup Mountain Bike Racing Series:MAILTO:
STATUS:CONFIRMED
UID:MORESPORTSNETWORK4716
DTSTART:20210515T080000Z
DTEND:20210515T120000Z
SUMMARY:2021 Intermountain Cup MTB Racing Series - Three Peaks
DESCRIPTION:2021 Intermountain Cup MTB Racing Series - Three Peaks - more details: https://www.moredirt.com/event/4716
X-ALT-DESC;FMTTYPE=text/html:2021 Intermountain Cup MTB Racing Series - Three Peaks - more details: https://www.moredirt.com/event/4716
LOCATION:
END:VEVENT
END:VCALENDAR