BEGIN:VCALENDAR
VERSION:2.0
PRODID:-//MoreDirt v1.0//EN
BEGIN:VEVENT
DTSTAMP:20150730T130000Z
ORGANIZER;CN=Circus Bear Productions:MAILTO:
STATUS:CONFIRMED
UID:MORESPORTSNETWORK4715
DTSTART:20220423T080000Z
DTEND:20220423T120000Z
SUMMARY:Spring XC at Fair Hill
DESCRIPTION:Spring XC at Fair Hill - more details: https://www.moredirt.com/event/4715
X-ALT-DESC;FMTTYPE=text/html:Spring XC at Fair Hill - more details: https://www.moredirt.com/event/4715
LOCATION:
END:VEVENT
END:VCALENDAR