BEGIN:VCALENDAR
VERSION:2.0
PRODID:-//MoreDirt v1.0//EN
BEGIN:VEVENT
DTSTAMP:20150730T130000Z
ORGANIZER;CN=701 Cycle and Sport:MAILTO:
STATUS:CONFIRMED
UID:MORESPORTSNETWORK4712
DTSTART:20210612T080000Z
DTEND:20210612T120000Z
SUMMARY:Otter Creek 55 Mountain Bike Race
DESCRIPTION:Otter Creek 55 Mountain Bike Race - more details: https://www.moredirt.com/event/4712
X-ALT-DESC;FMTTYPE=text/html:Otter Creek 55 Mountain Bike Race - more details: https://www.moredirt.com/event/4712
LOCATION:
END:VEVENT
END:VCALENDAR