BEGIN:VCALENDAR
VERSION:2.0
PRODID:-//MoreDirt v1.0//EN
BEGIN:VEVENT
DTSTAMP:20150730T130000Z
ORGANIZER;CN=Edge Cycles:MAILTO:
STATUS:CONFIRMED
UID:MORESPORTSNETWORK4707
DTSTART:20210612T080000Z
DTEND:20210612T120000Z
SUMMARY:Kernow Enduro - RD2
DESCRIPTION:Kernow Enduro - RD2 - more details: https://www.moredirt.com/event/4707
X-ALT-DESC;FMTTYPE=text/html:Kernow Enduro - RD2 - more details: https://www.moredirt.com/event/4707
LOCATION:
END:VEVENT
END:VCALENDAR