BEGIN:VCALENDAR
VERSION:2.0
PRODID:-//MoreDirt v1.0//EN
BEGIN:VEVENT
DTSTAMP:20150730T130000Z
ORGANIZER;CN=Edge Cycles:MAILTO:
STATUS:CONFIRMED
UID:MORESPORTSNETWORK4706
DTSTART:20210516T080000Z
DTEND:20210516T120000Z
SUMMARY:Kernow Enduro - RD1
DESCRIPTION:Kernow Enduro - RD1 - more details: https://www.moredirt.com/event/4706
X-ALT-DESC;FMTTYPE=text/html:Kernow Enduro - RD1 - more details: https://www.moredirt.com/event/4706
LOCATION:
END:VEVENT
END:VCALENDAR