BEGIN:VCALENDAR
VERSION:2.0
PRODID:-//MoreDirt v1.0//EN
BEGIN:VEVENT
DTSTAMP:20150730T130000Z
ORGANIZER;CN=CORC - Canberra Off Road Cyclists:MAILTO:
STATUS:CONFIRMED
UID:MORESPORTSNETWORK4704
DTSTART:20210327T080000+0000
DTEND:20210327T120000+0000
SUMMARY:CORC XC Round 2 Majura Pines
DESCRIPTION:CORC XC Round 2 Majura Pines - more details: https://www.moredirt.com/event/4704
X-ALT-DESC;FMTTYPE=text/html:CORC XC Round 2 Majura Pines - more details: https://www.moredirt.com/event/4704
LOCATION:
END:VEVENT
END:VCALENDAR