BEGIN:VCALENDAR
VERSION:2.0
PRODID:-//MoreDirt v1.0//EN
BEGIN:VEVENT
DTSTAMP:20150730T130000Z
ORGANIZER;CN=Intermountain Cup Mountain Bike Racing Series:MAILTO:
STATUS:CONFIRMED
UID:MORESPORTSNETWORK4702
DTSTART:20210807T080000Z
DTEND:20210807T120000Z
SUMMARY:2021 Intermountain Cup MTB Racing Series - Powder Mountain
DESCRIPTION:2021 Intermountain Cup MTB Racing Series - Powder Mountain - more details: https://www.moredirt.com/event/4702
X-ALT-DESC;FMTTYPE=text/html:2021 Intermountain Cup MTB Racing Series - Powder Mountain - more details: https://www.moredirt.com/event/4702
LOCATION:
END:VEVENT
END:VCALENDAR