BEGIN:VCALENDAR
VERSION:2.0
PRODID:-//MoreDirt v1.0//EN
BEGIN:VEVENT
DTSTAMP:20150730T130000Z
ORGANIZER;CN=Lysterfield MTB:MAILTO:
STATUS:CONFIRMED
UID:MORESPORTSNETWORK4696
DTSTART:20210516T080000Z
DTEND:20210516T120000Z
SUMMARY:The return of the Golden Goat!
DESCRIPTION:The return of the Golden Goat! - more details: https://www.moredirt.com/event/4696
X-ALT-DESC;FMTTYPE=text/html:The return of the Golden Goat! - more details: https://www.moredirt.com/event/4696
LOCATION:
END:VEVENT
END:VCALENDAR