BEGIN:VCALENDAR
VERSION:2.0
PRODID:-//MoreDirt v1.0//EN
BEGIN:VEVENT
DTSTAMP:20150730T130000Z
ORGANIZER;CN=Loki Events:MAILTO:
STATUS:CONFIRMED
UID:MORESPORTSNETWORK4688
DTSTART:20210516T080000Z
DTEND:20210516T120000Z
SUMMARY:Wolf Creek 6/12/24hr MTB Race
DESCRIPTION:Wolf Creek 6/12/24hr MTB Race - more details: https://www.moredirt.com/event/4688
X-ALT-DESC;FMTTYPE=text/html:Wolf Creek 6/12/24hr MTB Race - more details: https://www.moredirt.com/event/4688
LOCATION:
END:VEVENT
END:VCALENDAR