BEGIN:VCALENDAR
VERSION:2.0
PRODID:-//MoreDirt v1.0//EN
BEGIN:VEVENT
DTSTAMP:20150730T130000Z
ORGANIZER;CN=Ready Set Go Adventures:MAILTO:
STATUS:CONFIRMED
UID:MORESPORTSNETWORK4675
DTSTART:20210314T080000+0000
DTEND:20210314T120000+0000
SUMMARY:Belleayre SnowBike Festival
DESCRIPTION:Belleayre SnowBike Festival - more details: https://www.moredirt.com/event/4675
X-ALT-DESC;FMTTYPE=text/html:Belleayre SnowBike Festival - more details: https://www.moredirt.com/event/4675
LOCATION:
END:VEVENT
END:VCALENDAR