BEGIN:VCALENDAR
VERSION:2.0
PRODID:-//MoreDirt v1.0//EN
BEGIN:VEVENT
DTSTAMP:20150730T130000Z
ORGANIZER;CN=Gravity Enduro South Australia:MAILTO:
STATUS:CONFIRMED
UID:MORESPORTSNETWORK4668
DTSTART:20210502T080000Z
DTEND:20210502T120000Z
SUMMARY:Gravity Enduro South Australia - RD1
DESCRIPTION:Gravity Enduro South Australia - RD1 - more details: https://www.moredirt.com/event/4668
X-ALT-DESC;FMTTYPE=text/html:Gravity Enduro South Australia - RD1 - more details: https://www.moredirt.com/event/4668
LOCATION:
END:VEVENT
END:VCALENDAR