BEGIN:VCALENDAR
VERSION:2.0
PRODID:-//MoreDirt v1.0//EN
BEGIN:VEVENT
DTSTAMP:20150730T130000Z
ORGANIZER;CN=Trans BC Enduro:MAILTO:
STATUS:CONFIRMED
UID:MORESPORTSNETWORK4666
DTSTART:20210228T080000+0000
DTEND:20210305T120000+0000
SUMMARY:The Trans NZ Enduro 2021
DESCRIPTION:The Trans NZ Enduro 2021 - more details: https://www.moredirt.com/event/4666
X-ALT-DESC;FMTTYPE=text/html:The Trans NZ Enduro 2021 - more details: https://www.moredirt.com/event/4666
LOCATION:
END:VEVENT
END:VCALENDAR