BEGIN:VCALENDAR
VERSION:2.0
PRODID:-//MoreDirt v1.0//EN
BEGIN:VEVENT
DTSTAMP:20150730T130000Z
ORGANIZER;CN=Sedona MTB Festival:MAILTO:
STATUS:CONFIRMED
UID:MORESPORTSNETWORK4664
DTSTART:20211112T080000+0000
DTEND:20211114T120000+0000
SUMMARY:Sedona Mountain Bike Festival 2021
DESCRIPTION:Sedona Mountain Bike Festival 2021 - more details: https://www.moredirt.com/event/4664
X-ALT-DESC;FMTTYPE=text/html:Sedona Mountain Bike Festival 2021 - more details: https://www.moredirt.com/event/4664
LOCATION:
END:VEVENT
END:VCALENDAR