BEGIN:VCALENDAR
VERSION:2.0
PRODID:-//MoreDirt v1.0//EN
BEGIN:VEVENT
DTSTAMP:20150730T130000Z
ORGANIZER;CN=Spike:MAILTO:
STATUS:CONFIRMED
UID:MORESPORTSNETWORK465
DTSTART:20120930T080000Z
DTEND:20120930T120000Z
SUMMARY:Kinesis UK Hell of the West
DESCRIPTION:Kinesis UK Hell of the West - more details: https://www.moredirt.com/event/465
X-ALT-DESC;FMTTYPE=text/html:Kinesis UK Hell of the West - more details: https://www.moredirt.com/event/465
LOCATION:
END:VEVENT
END:VCALENDAR