BEGIN:VCALENDAR
VERSION:2.0
PRODID:-//MoreDirt v1.0//EN
BEGIN:VEVENT
DTSTAMP:20150730T130000Z
ORGANIZER;CN=US Cup Series:MAILTO:
STATUS:CONFIRMED
UID:MORESPORTSNETWORK4641
DTSTART:20210416T080000Z
DTEND:20210418T120000Z
SUMMARY:OZ Trails U.S. Pro Cup
DESCRIPTION:OZ Trails U.S. Pro Cup - more details: https://www.moredirt.com/event/4641
X-ALT-DESC;FMTTYPE=text/html:OZ Trails U.S. Pro Cup - more details: https://www.moredirt.com/event/4641
LOCATION:
END:VEVENT
END:VCALENDAR