BEGIN:VCALENDAR
VERSION:2.0
PRODID:-//MoreDirt v1.0//EN
BEGIN:VEVENT
DTSTAMP:20150730T130000Z
ORGANIZER;CN=Breck Epic:MAILTO:
STATUS:CONFIRMED
UID:MORESPORTSNETWORK4637
DTSTART:20210815T080000Z
DTEND:20210820T120000Z
SUMMARY:Breck Epic 2021
DESCRIPTION:Breck Epic 2021 - more details: https://www.moredirt.com/event/4637
X-ALT-DESC;FMTTYPE=text/html:Breck Epic 2021 - more details: https://www.moredirt.com/event/4637
LOCATION:
END:VEVENT
END:VCALENDAR