BEGIN:VCALENDAR
VERSION:2.0
PRODID:-//MoreDirt v1.0//EN
BEGIN:VEVENT
DTSTAMP:20150730T130000Z
ORGANIZER;CN=Cross Country Southeast:MAILTO:
STATUS:CONFIRMED
UID:MORESPORTSNETWORK4635
DTSTART:20210228T080000+0000
DTEND:20210228T120000+0000
SUMMARY:Cross Country Southeast Race 1
DESCRIPTION:Cross Country Southeast Race 1 - more details: https://www.moredirt.com/event/4635
X-ALT-DESC;FMTTYPE=text/html:Cross Country Southeast Race 1 - more details: https://www.moredirt.com/event/4635
LOCATION:
END:VEVENT
END:VCALENDAR