BEGIN:VCALENDAR
VERSION:2.0
PRODID:-//MoreDirt v1.0//EN
BEGIN:VEVENT
DTSTAMP:20150730T130000Z
ORGANIZER;CN=Bike Taupo:MAILTO:
STATUS:CONFIRMED
UID:MORESPORTSNETWORK4634
DTSTART:20210515T080000Z
DTEND:20210515T120000Z
SUMMARY:BFA Craters Classic
DESCRIPTION:BFA Craters Classic - more details: https://www.moredirt.com/event/4634
X-ALT-DESC;FMTTYPE=text/html:BFA Craters Classic - more details: https://www.moredirt.com/event/4634
LOCATION:
END:VEVENT
END:VCALENDAR