BEGIN:VCALENDAR
VERSION:2.0
PRODID:-//MoreDirt v1.0//EN
BEGIN:VEVENT
DTSTAMP:20150730T130000Z
ORGANIZER;CN=Mayer Active:MAILTO:
STATUS:CONFIRMED
UID:MORESPORTSNETWORK4632
DTSTART:20210729T080000Z
DTEND:20210801T120000Z
SUMMARY:TwentyFour12 2021
DESCRIPTION:TwentyFour12 2021 - more details: https://www.moredirt.com/event/4632
X-ALT-DESC;FMTTYPE=text/html:TwentyFour12 2021 - more details: https://www.moredirt.com/event/4632
LOCATION:
END:VEVENT
END:VCALENDAR