BEGIN:VCALENDAR
VERSION:2.0
PRODID:-//MoreDirt v1.0//EN
BEGIN:VEVENT
DTSTAMP:20150730T130000Z
ORGANIZER;CN=Focal Events LTD:MAILTO:
STATUS:CONFIRMED
UID:MORESPORTSNETWORK4628
DTSTART:20220611T080000Z
DTEND:20220612T120000Z
SUMMARY:Frontier 300 - 2022
DESCRIPTION:Frontier 300 - 2022 - more details: https://www.moredirt.com/event/4628
X-ALT-DESC;FMTTYPE=text/html:Frontier 300 - 2022 - more details: https://www.moredirt.com/event/4628
LOCATION:
END:VEVENT
END:VCALENDAR