BEGIN:VCALENDAR
VERSION:2.0
PRODID:-//MoreDirt v1.0//EN
BEGIN:VEVENT
DTSTAMP:20150730T130000Z
ORGANIZER;CN=Northcliffe Visitor Centre:MAILTO:
STATUS:CONFIRMED
UID:MORESPORTSNETWORK4627
DTSTART:20210424T080000Z
DTEND:20210424T120000Z
SUMMARY:Northcliffe Karri Cup MTB Challenge 2021
DESCRIPTION:Northcliffe Karri Cup MTB Challenge 2021 - more details: https://www.moredirt.com/event/4627
X-ALT-DESC;FMTTYPE=text/html:Northcliffe Karri Cup MTB Challenge 2021 - more details: https://www.moredirt.com/event/4627
LOCATION:
END:VEVENT
END:VCALENDAR