BEGIN:VCALENDAR
VERSION:2.0
PRODID:-//MoreDirt v1.0//EN
BEGIN:VEVENT
DTSTAMP:20150730T130000Z
ORGANIZER;CN=The Pioneer:MAILTO:
STATUS:CONFIRMED
UID:MORESPORTSNETWORK4614
DTSTART:20210418T080000Z
DTEND:20210423T120000Z
SUMMARY:The Pioneer 2021
DESCRIPTION:The Pioneer 2021 - more details: https://www.moredirt.com/event/4614
X-ALT-DESC;FMTTYPE=text/html:The Pioneer 2021 - more details: https://www.moredirt.com/event/4614
LOCATION:
END:VEVENT
END:VCALENDAR