BEGIN:VCALENDAR
VERSION:2.0
PRODID:-//MoreDirt v1.0//EN
BEGIN:VEVENT
DTSTAMP:20150730T130000Z
ORGANIZER;CN=Andorra MTB Classic-Pyrenees:MAILTO:
STATUS:CONFIRMED
UID:MORESPORTSNETWORK4613
DTSTART:20210630T080000Z
DTEND:20210703T120000Z
SUMMARY:Andorra MTB Classic-Pyrenees 2021
DESCRIPTION:Andorra MTB Classic-Pyrenees 2021 - more details: https://www.moredirt.com/event/4613
X-ALT-DESC;FMTTYPE=text/html:Andorra MTB Classic-Pyrenees 2021 - more details: https://www.moredirt.com/event/4613
LOCATION:
END:VEVENT
END:VCALENDAR