BEGIN:VCALENDAR
VERSION:2.0
PRODID:-//MoreDirt v1.0//EN
BEGIN:VEVENT
DTSTAMP:20150730T130000Z
ORGANIZER;CN=End2End Mountain Bike Challenge:MAILTO:
STATUS:CONFIRMED
UID:MORESPORTSNETWORK4612
DTSTART:20210912T080000Z
DTEND:20210912T120000Z
SUMMARY:Bikestyle End to End 2021
DESCRIPTION:Bikestyle End to End 2021 - more details: https://www.moredirt.com/event/4612
X-ALT-DESC;FMTTYPE=text/html:Bikestyle End to End 2021 - more details: https://www.moredirt.com/event/4612
LOCATION:
END:VEVENT
END:VCALENDAR