BEGIN:VCALENDAR
VERSION:2.0
PRODID:-//MoreDirt v1.0//EN
BEGIN:VEVENT
DTSTAMP:20150730T130000Z
ORGANIZER;CN=MTB Trilogy:MAILTO:
STATUS:CONFIRMED
UID:MORESPORTSNETWORK4611
DTSTART:20210702T080000Z
DTEND:20210706T120000Z
SUMMARY:MTB Trilogy 2021
DESCRIPTION:MTB Trilogy 2021 - more details: https://www.moredirt.com/event/4611
X-ALT-DESC;FMTTYPE=text/html:MTB Trilogy 2021 - more details: https://www.moredirt.com/event/4611
LOCATION:
END:VEVENT
END:VCALENDAR