BEGIN:VCALENDAR
VERSION:2.0
PRODID:-//MoreDirt v1.0//EN
BEGIN:VEVENT
DTSTAMP:20150730T130000Z
ORGANIZER;CN=Winchcombe CC:MAILTO:
STATUS:CONFIRMED
UID:MORESPORTSNETWORK4605
DTSTART:20210905T080000Z
DTEND:20210905T120000Z
SUMMARY:Hell of the North Cotswolds 2021
DESCRIPTION:Hell of the North Cotswolds 2021 - more details: https://www.moredirt.com/event/4605
X-ALT-DESC;FMTTYPE=text/html:Hell of the North Cotswolds 2021 - more details: https://www.moredirt.com/event/4605
LOCATION:
END:VEVENT
END:VCALENDAR