BEGIN:VCALENDAR
VERSION:2.0
PRODID:-//MoreDirt v1.0//EN
BEGIN:VEVENT
DTSTAMP:20150730T130000Z
ORGANIZER;CN=Innerleithen MTB Racing:MAILTO:
STATUS:CONFIRMED
UID:MORESPORTSNETWORK45
DTSTART:20110313T080000+0000
DTEND:20110313T120000+0000
SUMMARY:Innerleithen Mountain Time Trial
DESCRIPTION:Innerleithen Mountain Time Trial - more details: https://www.moredirt.com/event/45
X-ALT-DESC;FMTTYPE=text/html:Innerleithen Mountain Time Trial - more details: https://www.moredirt.com/event/45
LOCATION:
END:VEVENT
END:VCALENDAR