BEGIN:VCALENDAR
VERSION:2.0
PRODID:-//MoreDirt v1.0//EN
BEGIN:VEVENT
DTSTAMP:20150730T130000Z
ORGANIZER;CN=North American Enduro Cup:MAILTO:
STATUS:CONFIRMED
UID:MORESPORTSNETWORK4592
DTSTART:20210611T080000Z
DTEND:20210613T120000Z
SUMMARY:North American Enduro Cup 2021
DESCRIPTION:North American Enduro Cup 2021 - more details: https://www.moredirt.com/event/4592
X-ALT-DESC;FMTTYPE=text/html:North American Enduro Cup 2021 - more details: https://www.moredirt.com/event/4592
LOCATION:
END:VEVENT
END:VCALENDAR