BEGIN:VCALENDAR
VERSION:2.0
PRODID:-//MoreDirt v1.0//EN
BEGIN:VEVENT
DTSTAMP:20150730T130000Z
ORGANIZER;CN=Chico Racing:MAILTO:
STATUS:CONFIRMED
UID:MORESPORTSNETWORK4575
DTSTART:20210619T080000Z
DTEND:20210620T120000Z
SUMMARY:24 Hours of Summer Solstice 2021
DESCRIPTION:24 Hours of Summer Solstice 2021 - more details: https://www.moredirt.com/event/4575
X-ALT-DESC;FMTTYPE=text/html:24 Hours of Summer Solstice 2021 - more details: https://www.moredirt.com/event/4575
LOCATION:
END:VEVENT
END:VCALENDAR