BEGIN:VCALENDAR
VERSION:2.0
PRODID:-//MoreDirt v1.0//EN
BEGIN:VEVENT
DTSTAMP:20150730T130000Z
ORGANIZER;CN=Just Events Ltd:MAILTO:
STATUS:CONFIRMED
UID:MORESPORTSNETWORK4560
DTSTART:20210522T080000Z
DTEND:20210522T120000Z
SUMMARY:Haldon Heroic 2021
DESCRIPTION:Haldon Heroic 2021 - more details: https://www.moredirt.com/event/4560
X-ALT-DESC;FMTTYPE=text/html:Haldon Heroic 2021 - more details: https://www.moredirt.com/event/4560
LOCATION:
END:VEVENT
END:VCALENDAR