BEGIN:VCALENDAR
VERSION:2.0
PRODID:-//MoreDirt v1.0//EN
BEGIN:VEVENT
DTSTAMP:20150730T130000Z
ORGANIZER;CN=CORC - Canberra Off Road Cyclists:MAILTO:
STATUS:CONFIRMED
UID:MORESPORTSNETWORK4557
DTSTART:20210213T080000+0000
DTEND:20210213T120000+0000
SUMMARY:Tier 1 XCO - Stromlo Forest Park
DESCRIPTION:Tier 1 XCO - Stromlo Forest Park - more details: https://www.moredirt.com/event/4557
X-ALT-DESC;FMTTYPE=text/html:Tier 1 XCO - Stromlo Forest Park - more details: https://www.moredirt.com/event/4557
LOCATION:
END:VEVENT
END:VCALENDAR