BEGIN:VCALENDAR
VERSION:2.0
PRODID:-//MoreDirt v1.0//EN
BEGIN:VEVENT
DTSTAMP:20150730T130000Z
ORGANIZER;CN=Scottish Womens Enduro:MAILTO:
STATUS:CONFIRMED
UID:MORESPORTSNETWORK4542
DTSTART:20210619T080000Z
DTEND:20210620T120000Z
SUMMARY:Scottish Women's Enduro 2021
DESCRIPTION:Scottish Women's Enduro 2021 - more details: https://www.moredirt.com/event/4542
X-ALT-DESC;FMTTYPE=text/html:Scottish Women's Enduro 2021 - more details: https://www.moredirt.com/event/4542
LOCATION:
END:VEVENT
END:VCALENDAR