BEGIN:VCALENDAR
VERSION:2.0
PRODID:-//MoreDirt v1.0//EN
BEGIN:VEVENT
DTSTAMP:20150730T130000Z
ORGANIZER;CN=Downhill Southeast:MAILTO:
STATUS:CONFIRMED
UID:MORESPORTSNETWORK4539
DTSTART:20210612T080000Z
DTEND:20210613T120000Z
SUMMARY:Downhill Southeast Series Race 2
DESCRIPTION:Downhill Southeast Series Race 2 - more details: https://www.moredirt.com/event/4539
X-ALT-DESC;FMTTYPE=text/html:Downhill Southeast Series Race 2 - more details: https://www.moredirt.com/event/4539
LOCATION:
END:VEVENT
END:VCALENDAR