BEGIN:VCALENDAR
VERSION:2.0
PRODID:-//MoreDirt v1.0//EN
BEGIN:VEVENT
DTSTAMP:20150730T130000Z
ORGANIZER;CN=Doon Tha Brae Events:MAILTO:
STATUS:CONFIRMED
UID:MORESPORTSNETWORK4537
DTSTART:20211010T080000Z
DTEND:20211010T120000Z
SUMMARY:Aberdeenshire Enduro Series - Round 3
DESCRIPTION:Aberdeenshire Enduro Series - Round 3 - more details: https://www.moredirt.com/event/4537
X-ALT-DESC;FMTTYPE=text/html:Aberdeenshire Enduro Series - Round 3 - more details: https://www.moredirt.com/event/4537
LOCATION:
END:VEVENT
END:VCALENDAR