BEGIN:VCALENDAR
VERSION:2.0
PRODID:-//MoreDirt v1.0//EN
BEGIN:VEVENT
DTSTAMP:20150730T130000Z
ORGANIZER;CN=Global Bike Festival:MAILTO:
STATUS:CONFIRMED
UID:MORESPORTSNETWORK4533
DTSTART:20210617T080000Z
DTEND:20210620T120000Z
SUMMARY:Global Bike Festival 2021
DESCRIPTION:Global Bike Festival 2021 - more details: https://www.moredirt.com/event/4533
X-ALT-DESC;FMTTYPE=text/html:Global Bike Festival 2021 - more details: https://www.moredirt.com/event/4533
LOCATION:
END:VEVENT
END:VCALENDAR