BEGIN:VCALENDAR
VERSION:2.0
PRODID:-//MoreDirt v1.0//EN
BEGIN:VEVENT
DTSTAMP:20150730T130000Z
ORGANIZER;CN=BIKE Festival:MAILTO:
STATUS:CONFIRMED
UID:MORESPORTSNETWORK4523
DTSTART:20211015T080000Z
DTEND:20211017T120000Z
SUMMARY:BIKE Festival Garda Trentino 2021
DESCRIPTION:BIKE Festival Garda Trentino 2021 - more details: https://www.moredirt.com/event/4523
X-ALT-DESC;FMTTYPE=text/html:BIKE Festival Garda Trentino 2021 - more details: https://www.moredirt.com/event/4523
LOCATION:
END:VEVENT
END:VCALENDAR