BEGIN:VCALENDAR
VERSION:2.0
PRODID:-//MoreDirt v1.0//EN
BEGIN:VEVENT
DTSTAMP:20150730T130000Z
ORGANIZER;CN=Vertigo Bikes:MAILTO:
STATUS:CONFIRMED
UID:MORESPORTSNETWORK4493
DTSTART:20210327T080000+0000
DTEND:20210327T120000+0000
SUMMARY:Vertigo Bikes Ride More DH Series Round 5
DESCRIPTION:Vertigo Bikes Ride More DH Series Round 5 - more details: https://www.moredirt.com/event/4493
X-ALT-DESC;FMTTYPE=text/html:Vertigo Bikes Ride More DH Series Round 5 - more details: https://www.moredirt.com/event/4493
LOCATION:
END:VEVENT
END:VCALENDAR