BEGIN:VCALENDAR
VERSION:2.0
PRODID:-//MoreDirt v1.0//EN
BEGIN:VEVENT
DTSTAMP:20150730T130000Z
ORGANIZER;CN=Vertigo Bikes:MAILTO:
STATUS:CONFIRMED
UID:MORESPORTSNETWORK4492
DTSTART:20210220T080000+0000
DTEND:20210220T120000+0000
SUMMARY:Vertigo Bikes Ride More DH Series Round 4
DESCRIPTION:Vertigo Bikes Ride More DH Series Round 4 - more details: https://www.moredirt.com/event/4492
X-ALT-DESC;FMTTYPE=text/html:Vertigo Bikes Ride More DH Series Round 4 - more details: https://www.moredirt.com/event/4492
LOCATION:
END:VEVENT
END:VCALENDAR