BEGIN:VCALENDAR
VERSION:2.0
PRODID:-//MoreDirt v1.0//EN
BEGIN:VEVENT
DTSTAMP:20150730T130000Z
ORGANIZER;CN=Appenninica MTB:MAILTO:
STATUS:CONFIRMED
UID:MORESPORTSNETWORK4490
DTSTART:20210912T080000Z
DTEND:20210918T120000Z
SUMMARY:Appenninica MTB Parmigiano Reggiano Stage Race
DESCRIPTION:Appenninica MTB Parmigiano Reggiano Stage Race - more details: https://www.moredirt.com/event/4490
X-ALT-DESC;FMTTYPE=text/html:Appenninica MTB Parmigiano Reggiano Stage Race - more details: https://www.moredirt.com/event/4490
LOCATION:
END:VEVENT
END:VCALENDAR