BEGIN:VCALENDAR
VERSION:2.0
PRODID:-//MoreDirt v1.0//EN
BEGIN:VEVENT
DTSTAMP:20150730T130000Z
ORGANIZER;CN=Southern Enduro Tour:MAILTO:
STATUS:CONFIRMED
UID:MORESPORTSNETWORK4488
DTSTART:20210123T080000+0000
DTEND:20210124T120000+0000
SUMMARY:Southern Enduro Tour 2021 - RD1
DESCRIPTION:Southern Enduro Tour 2021 - RD1 - more details: https://www.moredirt.com/event/4488
X-ALT-DESC;FMTTYPE=text/html:Southern Enduro Tour 2021 - RD1 - more details: https://www.moredirt.com/event/4488
LOCATION:
END:VEVENT
END:VCALENDAR