BEGIN:VCALENDAR
VERSION:2.0
PRODID:-//MoreDirt v1.0//EN
BEGIN:VEVENT
DTSTAMP:20150730T130000Z
ORGANIZER;CN=TBF Racing:MAILTO:
STATUS:CONFIRMED
UID:MORESPORTSNETWORK4482
DTSTART:20210228T080000+0000
DTEND:20210228T120000+0000
SUMMARY:MTB Kickstart - Cross Country MTB Racing - RD4
DESCRIPTION:MTB Kickstart - Cross Country MTB Racing - RD4 - more details: https://www.moredirt.com/event/4482
X-ALT-DESC;FMTTYPE=text/html:MTB Kickstart - Cross Country MTB Racing - RD4 - more details: https://www.moredirt.com/event/4482
LOCATION:
END:VEVENT
END:VCALENDAR