BEGIN:VCALENDAR
VERSION:2.0
PRODID:-//MoreDirt v1.0//EN
BEGIN:VEVENT
DTSTAMP:20150730T130000Z
ORGANIZER;CN=TBF Racing:MAILTO:
STATUS:CONFIRMED
UID:MORESPORTSNETWORK4481
DTSTART:20210214T080000+0000
DTEND:20210214T120000+0000
SUMMARY:MTB Kickstart - Cross Country MTB Racing - RD3
DESCRIPTION:MTB Kickstart - Cross Country MTB Racing - RD3 - more details: https://www.moredirt.com/event/4481
X-ALT-DESC;FMTTYPE=text/html:MTB Kickstart - Cross Country MTB Racing - RD3 - more details: https://www.moredirt.com/event/4481
LOCATION:
END:VEVENT
END:VCALENDAR