BEGIN:VCALENDAR
VERSION:2.0
PRODID:-//MoreDirt v1.0//EN
BEGIN:VEVENT
DTSTAMP:20150730T130000Z
ORGANIZER;CN=Pass’Portes du Soleil MTB:MAILTO:
STATUS:CONFIRMED
UID:MORESPORTSNETWORK4472
DTSTART:20210625T080000Z
DTEND:20210627T120000Z
SUMMARY:Pass’Portes du Soleil 2021
DESCRIPTION:Pass’Portes du Soleil 2021 - more details: https://www.moredirt.com/event/4472
X-ALT-DESC;FMTTYPE=text/html:Pass’Portes du Soleil 2021 - more details: https://www.moredirt.com/event/4472
LOCATION:
END:VEVENT
END:VCALENDAR