BEGIN:VCALENDAR
VERSION:2.0
PRODID:-//MoreDirt v1.0//EN
BEGIN:VEVENT
DTSTAMP:20150730T130000Z
ORGANIZER;CN=Robidoux Quick & Dirty:MAILTO:
STATUS:CONFIRMED
UID:MORESPORTSNETWORK4466
DTSTART:20210620T080000Z
DTEND:20210620T120000Z
SUMMARY:Robidoux Quick & Dirty 2021
DESCRIPTION:Robidoux Quick & Dirty 2021 - more details: https://www.moredirt.com/event/4466
X-ALT-DESC;FMTTYPE=text/html:Robidoux Quick & Dirty 2021 - more details: https://www.moredirt.com/event/4466
LOCATION:
END:VEVENT
END:VCALENDAR