BEGIN:VCALENDAR
VERSION:2.0
PRODID:-//MoreDirt v1.0//EN
BEGIN:VEVENT
DTSTAMP:20150730T130000Z
ORGANIZER;CN=Sportive Breaks:MAILTO:
STATUS:CONFIRMED
UID:MORESPORTSNETWORK4465
DTSTART:20211003T080000Z
DTEND:20211003T120000Z
SUMMARY:Glorious Gravel: The Dark Peak
DESCRIPTION:Glorious Gravel: The Dark Peak - more details: https://www.moredirt.com/event/4465
X-ALT-DESC;FMTTYPE=text/html:Glorious Gravel: The Dark Peak - more details: https://www.moredirt.com/event/4465
LOCATION:
END:VEVENT
END:VCALENDAR