BEGIN:VCALENDAR
VERSION:2.0
PRODID:-//MoreDirt v1.0//EN
BEGIN:VEVENT
DTSTAMP:20150730T130000Z
ORGANIZER;CN=Yorkshire True Grit:MAILTO:
STATUS:CONFIRMED
UID:MORESPORTSNETWORK4463
DTSTART:20210220T080000+0000
DTEND:20210220T120000+0000
SUMMARY:Yorkshire True Grit Dark Skies 2021
DESCRIPTION:Yorkshire True Grit Dark Skies 2021 - more details: https://www.moredirt.com/event/4463
X-ALT-DESC;FMTTYPE=text/html:Yorkshire True Grit Dark Skies 2021 - more details: https://www.moredirt.com/event/4463
LOCATION:
END:VEVENT
END:VCALENDAR