BEGIN:VCALENDAR
VERSION:2.0
PRODID:-//MoreDirt v1.0//EN
BEGIN:VEVENT
DTSTAMP:20150730T130000Z
ORGANIZER;CN=Yorkshire True Grit Ltd:MAILTO:
STATUS:CONFIRMED
UID:MORESPORTSNETWORK4462
DTSTART:20210618T080000Z
DTEND:20210620T120000Z
SUMMARY:Yorkshire True Grit 2021
DESCRIPTION:Yorkshire True Grit 2021 - more details: https://www.moredirt.com/event/4462
X-ALT-DESC;FMTTYPE=text/html:Yorkshire True Grit 2021 - more details: https://www.moredirt.com/event/4462
LOCATION:
END:VEVENT
END:VCALENDAR