BEGIN:VCALENDAR
VERSION:2.0
PRODID:-//MoreDirt v1.0//EN
BEGIN:VEVENT
DTSTAMP:20150730T130000Z
ORGANIZER;CN=Thredbo Mountain:MAILTO:
STATUS:CONFIRMED
UID:MORESPORTSNETWORK4448
DTSTART:20210228T080000+0000
DTEND:20210228T120000+0000
SUMMARY:Thredbo Gravity Series - Friday Flat Fury
DESCRIPTION:Thredbo Gravity Series - Friday Flat Fury - more details: https://www.moredirt.com/event/4448
X-ALT-DESC;FMTTYPE=text/html:Thredbo Gravity Series - Friday Flat Fury - more details: https://www.moredirt.com/event/4448
LOCATION:
END:VEVENT
END:VCALENDAR